BEGIN:VCALENDAR
VERSION:2.0
METHOD:PUBLISH
BEGIN:VEVENT
DTSTAMP:20260421T084401Z
DTSTART:20190316T160000Z
DTEND:20190316T210000Z
SUMMARY:Exhibit: A Stitch in Time
LOCATION:14732 Woodbine Ave
END:VEVENT
END:VCALENDAR
