BEGIN:VCALENDAR
VERSION:2.0
METHOD:PUBLISH
BEGIN:VEVENT
DTSTAMP:20260423T082657Z
DTSTART:20260420T170000Z
DTEND:20260420T170000Z
SUMMARY:Spring Town Halls
LOCATION:5592 Aurora Rd, Whitchurch-Stouffville, ON L4A 7X3
END:VEVENT
END:VCALENDAR
