BEGIN:VCALENDAR
VERSION:2.0
METHOD:PUBLISH
BEGIN:VEVENT
DTSTAMP:20260424T022538Z
DTSTART:20260523T133000Z
DTEND:20260523T173000Z
SUMMARY:Public Works Open House
LOCATION:5061 Bethesda Side Rd
END:VEVENT
END:VCALENDAR
