BEGIN:VCALENDAR
VERSION:2.0
METHOD:PUBLISH
BEGIN:VEVENT
DTSTAMP:20260423T083113Z
DTSTART:20260912T140000Z
DTEND:20260912T180000Z
SUMMARY:Fire Department Open House
LOCATION:100 Weldon Rd, Stouffville, ON L4A 1N2
END:VEVENT
END:VCALENDAR
